BEGIN:VCALENDAR
PRODID: -//EVENTSCAL//ICALEVNT//EN
VERSION:2.0
METHOD:REQUEST
BEGIN:VTIMEZONE
TZID:Eastern Time
BEGIN:STANDARD
DTSTART:20061101T020000
RRULE:FREQ=YEARLY;INTERVAL=1;BYDAY=1SU;BYMONTH=11
TZOFFSETFROM:-0400
TZOFFSETTO:-0500
TZNAME:Standard Time
END:STANDARD
BEGIN:DAYLIGHT
DTSTART:20060301T020000
RRULE:FREQ=YEARLY;INTERVAL=1;BYDAY=2SU;BYMONTH=3
TZOFFSETFROM:-0500
TZOFFSETTO:-0400
TZNAME:Daylight Savings Time
END:DAYLIGHT
END:VTIMEZONE
BEGIN:VEVENT
UID:1776689372791.EVENTSCAL
ORGANIZER;CN=Central Baptist Church of Camp Springs:MAILTO:info@centralbaptistchurchcs.org
DTSTAMP:20260420T124932
DTSTART;TZID=Eastern Time:20260429T120000
DTEND;TZID=Eastern Time:20260501T190000
SUMMARY:CBCCS Spring Revival
LOCATION:Event location goes here
DESCRIPTION:CBCCS Spring Revival is happening this week. During this three-day event, you will receive the Word of God from three power preachers in the DMV. Two services are held at Noon and the last service is in the evening to accommodate our seniors and working members. Members are asked to make a special contribution each day of the revival to offset the expenses for this three-day event.&nbsp;    COME OUT AND GET REVIVED!&nbsp;
PRIORITY:1
TRANSP:OPAQUE
CLASS:PUBLIC
BEGIN:VALARM
TRIGGER:-PT30M
ACTION:DISPLAY
DESCRIPTION:Reminder
END:VALARM
END:VEVENT
END:VCALENDAR